BEGIN:VCALENDAR
METHOD:PUBLISH
PRODID:-//Weblication CMS
VERSION:2.0
BEGIN:VEVENT
SUMMARY:18ème SOL–séminaire spécialisé
DTSTART:20240223T083000
DTEND:20240223T123000
DESCRIPTION:Pergolas & Carports – Toit fix sur terrasses, pare-vues Basic – Premium – SOLar
LOCATION:Grenchen
UID:https://www.solag.ch/fr/sol-academie/termine/18-me-s-minaire-de-formation-2.php
URL:https://www.solag.ch/fr/sol-academie/termine/18-me-s-minaire-de-formation-2.php
END:VEVENT
END:VCALENDAR